Package: rebook Version: 1.14.0 Command: /home/biocbuild/R/R-beta-2024-04-15_r86425/bin/R CMD build --keep-empty-dirs --no-resave-data rebook StartedAt: 2024-05-09 02:53:33 -0000 (Thu, 09 May 2024) EndedAt: 2024-05-09 02:53:46 -0000 (Thu, 09 May 2024) EllapsedTime: 13.0 seconds RetCode: 0 Status: OK PackageFile: rebook_1.14.0.tar.gz PackageFileSize: 288 KiB