Package: rebook Version: 1.14.0 Command: /Library/Frameworks/R.framework/Resources/bin/R CMD build --keep-empty-dirs --no-resave-data rebook StartedAt: 2024-10-16 22:28:17 -0400 (Wed, 16 Oct 2024) EndedAt: 2024-10-16 22:29:14 -0400 (Wed, 16 Oct 2024) EllapsedTime: 56.3 seconds RetCode: 0 Status: OK PackageFile: rebook_1.14.0.tar.gz PackageFileSize: 262.6 KiB