Package: rebook Version: 1.14.0 Command: /Library/Frameworks/R.framework/Resources/bin/R CMD check --install=check:rebook.install-out.txt --library=/Library/Frameworks/R.framework/Resources/library --no-vignettes --timings rebook_1.14.0.tar.gz StartedAt: 2024-10-17 11:36:26 -0400 (Thu, 17 Oct 2024) EndedAt: 2024-10-17 11:40:49 -0400 (Thu, 17 Oct 2024) EllapsedTime: 263.5 seconds RetCode: 0 Status: WARNINGS CheckDir: rebook.Rcheck Warnings: 2