Package: rebook Version: 1.14.0 Command: /home/biocbuild/bbs-3.19-bioc/R/bin/R CMD build --keep-empty-dirs --no-resave-data rebook StartedAt: 2024-10-16 20:22:02 -0400 (Wed, 16 Oct 2024) EndedAt: 2024-10-16 20:22:22 -0400 (Wed, 16 Oct 2024) EllapsedTime: 20.0 seconds RetCode: 0 Status: OK PackageFile: rebook_1.14.0.tar.gz PackageFileSize: 262.7 KiB