Package: rebook Version: 1.14.0 Command: rm -rf rebook.buildbin-libdir && mkdir rebook.buildbin-libdir && F:\biocbuild\bbs-3.19-bioc\R\bin\R.exe CMD INSTALL --build --library=rebook.buildbin-libdir rebook_1.14.0.tar.gz StartedAt: 2024-06-27 08:45:38 -0400 (Thu, 27 Jun 2024) EndedAt: 2024-06-27 08:45:56 -0400 (Thu, 27 Jun 2024) EllapsedTime: 18.3 seconds RetCode: 0 Status: OK PackageFile: rebook_1.14.0.zip PackageFileSize: 334.5 KiB