Package: rebook Version: 1.14.0 Command: chmod a+r rebook -R && F:\biocbuild\bbs-3.19-bioc\R\bin\R.exe CMD build --keep-empty-dirs --no-resave-data rebook StartedAt: 2024-06-26 21:18:55 -0400 (Wed, 26 Jun 2024) EndedAt: 2024-06-26 21:19:24 -0400 (Wed, 26 Jun 2024) EllapsedTime: 29.7 seconds RetCode: 0 Status: OK PackageFile: rebook_1.14.0.tar.gz PackageFileSize: 262.2 KiB