Package: recount Version: 1.30.0 Command: /home/biocbuild/R/R-beta-2024-04-15_r86425/bin/R CMD INSTALL recount StartedAt: 2024-05-08 20:37:56 -0000 (Wed, 08 May 2024) EndedAt: 2024-05-08 20:39:27 -0000 (Wed, 08 May 2024) EllapsedTime: 91.5 seconds RetCode: 0 Status: OK