Package: recount Version: 1.30.2 Command: /Library/Frameworks/R.framework/Resources/bin/R CMD check --install=check:recount.install-out.txt --library=/Library/Frameworks/R.framework/Resources/library --no-vignettes --timings recount_1.30.2.tar.gz StartedAt: 2024-06-09 22:30:50 -0400 (Sun, 09 Jun 2024) EndedAt: 2024-06-09 22:40:13 -0400 (Sun, 09 Jun 2024) EllapsedTime: 563.8 seconds RetCode: 0 Status: OK CheckDir: recount.Rcheck Warnings: 0