Package: recount Version: 1.30.2 Command: /Library/Frameworks/R.framework/Resources/bin/R CMD INSTALL recount StartedAt: 2024-06-09 15:26:28 -0400 (Sun, 09 Jun 2024) EndedAt: 2024-06-09 15:27:59 -0400 (Sun, 09 Jun 2024) EllapsedTime: 91.6 seconds RetCode: 0 Status: OK