Package: recount Version: 1.30.2 Command: rm -rf recount.buildbin-libdir && mkdir recount.buildbin-libdir && /Users/biocbuild/BBS/utils/build-universal.sh recount_1.30.2.tar.gz /Library/Frameworks/R.framework/Resources/bin/R recount.buildbin-libdir StartedAt: 2024-10-17 16:57:26 -0400 (Thu, 17 Oct 2024) EndedAt: 2024-10-17 17:00:06 -0400 (Thu, 17 Oct 2024) EllapsedTime: 160.1 seconds RetCode: 0 Status: OK PackageFile: recount_1.30.2.tgz PackageFileSize: 7.839 MiB