Package: recount Version: 1.30.2 Command: /home/biocbuild/bbs-3.19-bioc/R/bin/R CMD build --keep-empty-dirs --no-resave-data recount StartedAt: 2024-10-16 20:22:10 -0400 (Wed, 16 Oct 2024) EndedAt: 2024-10-16 20:38:29 -0400 (Wed, 16 Oct 2024) EllapsedTime: 979.4 seconds RetCode: 0 Status: OK PackageFile: recount_1.30.2.tar.gz PackageFileSize: 7.003 MiB