Package: recount Version: 1.30.2 Command: rm -rf recount.buildbin-libdir && mkdir recount.buildbin-libdir && E:\biocbuild\bbs-3.19-bioc\R\bin\R.exe CMD INSTALL --build --library=recount.buildbin-libdir recount_1.30.2.tar.gz StartedAt: 2024-10-17 08:27:30 -0400 (Thu, 17 Oct 2024) EndedAt: 2024-10-17 08:28:53 -0400 (Thu, 17 Oct 2024) EllapsedTime: 82.8 seconds RetCode: 0 Status: OK PackageFile: recount_1.30.2.zip PackageFileSize: 7.226 MiB