Package: recount3 Version: 1.14.0 Command: /home/biocbuild/R/R-beta-2024-04-15_r86425/bin/R CMD build --keep-empty-dirs --no-resave-data recount3 StartedAt: 2024-05-09 02:53:46 -0000 (Thu, 09 May 2024) EndedAt: 2024-05-09 02:54:48 -0000 (Thu, 09 May 2024) EllapsedTime: 61.1 seconds RetCode: 1 Status: ERROR PackageFile: None PackageFileSize: NA