Package: recount3 Version: 1.14.0 Command: /home/biocbuild/R/R-beta-2024-04-15_r86425/bin/R CMD check --install=check:recount3.install-out.txt --library=/home/biocbuild/R/R-beta-2024-04-15_r86425/site-library --no-vignettes --timings recount3_1.14.0.tar.gz StartedAt: 2024-05-08 11:02:57 -0000 (Wed, 08 May 2024) EndedAt: 2024-05-08 11:16:25 -0000 (Wed, 08 May 2024) EllapsedTime: 808.6 seconds RetCode: 0 Status: OK CheckDir: recount3.Rcheck Warnings: 0