Package: recount3 Version: 1.14.0 Command: /Library/Frameworks/R.framework/Resources/bin/R CMD build --keep-empty-dirs --no-resave-data recount3 StartedAt: 2024-06-09 17:52:34 -0400 (Sun, 09 Jun 2024) EndedAt: 2024-06-09 17:54:41 -0400 (Sun, 09 Jun 2024) EllapsedTime: 126.4 seconds RetCode: 0 Status: OK PackageFile: recount3_1.14.0.tar.gz PackageFileSize: 562.6 KiB