Package: recount3 Version: 1.14.0 Command: /Library/Frameworks/R.framework/Resources/bin/R CMD INSTALL recount3 StartedAt: 2024-06-09 15:17:38 -0400 (Sun, 09 Jun 2024) EndedAt: 2024-06-09 15:18:24 -0400 (Sun, 09 Jun 2024) EllapsedTime: 45.2 seconds RetCode: 0 Status: OK