Package: recount3 Version: 1.14.0 Command: /home/biocbuild/bbs-3.19-bioc/R/bin/R CMD build --keep-empty-dirs --no-resave-data recount3 StartedAt: 2024-10-16 20:22:14 -0400 (Wed, 16 Oct 2024) EndedAt: 2024-10-16 20:24:17 -0400 (Wed, 16 Oct 2024) EllapsedTime: 123.2 seconds RetCode: 0 Status: OK PackageFile: recount3_1.14.0.tar.gz PackageFileSize: 562.6 KiB