Package: recount3 Version: 1.14.0 Command: chmod a+r recount3 -R && F:\biocbuild\bbs-3.19-bioc\R\bin\R.exe CMD build --keep-empty-dirs --no-resave-data recount3 StartedAt: 2024-06-26 21:19:11 -0400 (Wed, 26 Jun 2024) EndedAt: 2024-06-26 21:22:09 -0400 (Wed, 26 Jun 2024) EllapsedTime: 178.5 seconds RetCode: 0 Status: OK PackageFile: recount3_1.14.0.tar.gz PackageFileSize: 563.2 KiB