Package: recount3 Version: 1.14.0 Command: rm -rf recount3.buildbin-libdir && mkdir recount3.buildbin-libdir && E:\biocbuild\bbs-3.19-bioc\R\bin\R.exe CMD INSTALL --build --library=recount3.buildbin-libdir recount3_1.14.0.tar.gz StartedAt: 2024-10-17 08:27:32 -0400 (Thu, 17 Oct 2024) EndedAt: 2024-10-17 08:28:13 -0400 (Thu, 17 Oct 2024) EllapsedTime: 40.9 seconds RetCode: 0 Status: OK PackageFile: recount3_1.14.0.zip PackageFileSize: 647.9 KiB