Package: recountmethylation Version: 1.14.0 Command: /Library/Frameworks/R.framework/Resources/bin/R CMD build --keep-empty-dirs --no-resave-data recountmethylation StartedAt: 2024-10-17 07:20:20 -0400 (Thu, 17 Oct 2024) EndedAt: 2024-10-17 07:23:21 -0400 (Thu, 17 Oct 2024) EllapsedTime: 181.4 seconds RetCode: 0 Status: OK PackageFile: recountmethylation_1.14.0.tar.gz PackageFileSize: 4.858 MiB