Package: recountmethylation Version: 1.14.0 Command: /Library/Frameworks/R.framework/Resources/bin/R CMD build --keep-empty-dirs --no-resave-data recountmethylation StartedAt: 2024-10-16 22:28:27 -0400 (Wed, 16 Oct 2024) EndedAt: 2024-10-16 22:32:02 -0400 (Wed, 16 Oct 2024) EllapsedTime: 215.0 seconds RetCode: 0 Status: OK PackageFile: recountmethylation_1.14.0.tar.gz PackageFileSize: 4.856 MiB