Package: recountmethylation Version: 1.14.0 Command: /home/biocbuild/bbs-3.19-bioc/R/bin/R CMD build --keep-empty-dirs --no-resave-data recountmethylation StartedAt: 2024-10-16 20:22:22 -0400 (Wed, 16 Oct 2024) EndedAt: 2024-10-16 20:24:04 -0400 (Wed, 16 Oct 2024) EllapsedTime: 102.2 seconds RetCode: 0 Status: OK PackageFile: recountmethylation_1.14.0.tar.gz PackageFileSize: 4.786 MiB