Package: recountmethylation Version: 1.14.0 Command: /home/biocbuild/bbs-3.19-bioc/R/bin/R CMD check --install=check:recountmethylation.install-out.txt --library=/home/biocbuild/bbs-3.19-bioc/R/site-library --timings recountmethylation_1.14.0.tar.gz StartedAt: 2024-10-17 04:13:31 -0400 (Thu, 17 Oct 2024) EndedAt: 2024-10-17 04:18:00 -0400 (Thu, 17 Oct 2024) EllapsedTime: 269.6 seconds RetCode: 0 Status: OK CheckDir: recountmethylation.Rcheck Warnings: 0