Package: regionalpcs Version: 1.2.0 Command: /Library/Frameworks/R.framework/Resources/bin/R CMD build --keep-empty-dirs --no-resave-data regionalpcs StartedAt: 2024-10-17 07:23:21 -0400 (Thu, 17 Oct 2024) EndedAt: 2024-10-17 07:23:53 -0400 (Thu, 17 Oct 2024) EllapsedTime: 32.3 seconds RetCode: 0 Status: OK PackageFile: regionalpcs_1.2.0.tar.gz PackageFileSize: 469.9 KiB