Package: regionalpcs Version: 1.2.0 Command: /home/biocbuild/bbs-3.19-bioc/R/bin/R CMD INSTALL regionalpcs StartedAt: 2024-10-16 16:38:10 -0400 (Wed, 16 Oct 2024) EndedAt: 2024-10-16 16:38:12 -0400 (Wed, 16 Oct 2024) EllapsedTime: 2.1 seconds RetCode: 0 Status: OK