Package: regionalpcs Version: 1.2.0 Command: F:\biocbuild\bbs-3.19-bioc\R\bin\R.exe CMD INSTALL regionalpcs StartedAt: 2024-06-26 16:43:41 -0400 (Wed, 26 Jun 2024) EndedAt: 2024-06-26 16:43:45 -0400 (Wed, 26 Jun 2024) EllapsedTime: 4.1 seconds RetCode: 0 Status: OK