Package: regionalpcs Version: 1.2.0 Command: rm -rf regionalpcs.buildbin-libdir && mkdir regionalpcs.buildbin-libdir && E:\biocbuild\bbs-3.19-bioc\R\bin\R.exe CMD INSTALL --build --library=regionalpcs.buildbin-libdir regionalpcs_1.2.0.tar.gz StartedAt: 2024-10-17 08:27:57 -0400 (Thu, 17 Oct 2024) EndedAt: 2024-10-17 08:28:05 -0400 (Thu, 17 Oct 2024) EllapsedTime: 7.6 seconds RetCode: 0 Status: OK PackageFile: regionalpcs_1.2.0.zip PackageFileSize: 479.8 KiB