Package: regutools Version: 1.16.0 Command: rm -rf regutools.buildbin-libdir && mkdir regutools.buildbin-libdir && /Users/biocbuild/BBS/utils/build-universal.sh regutools_1.16.0.tar.gz /Library/Frameworks/R.framework/Resources/bin/R regutools.buildbin-libdir StartedAt: 2024-06-11 12:46:22 -0400 (Tue, 11 Jun 2024) EndedAt: 2024-06-11 12:48:24 -0400 (Tue, 11 Jun 2024) EllapsedTime: 122.1 seconds RetCode: 0 Status: OK PackageFile: regutools_1.16.0.tgz PackageFileSize: 946.8 KiB