Package: regutools Version: 1.16.0 Command: /Library/Frameworks/R.framework/Resources/bin/R CMD build --keep-empty-dirs --no-resave-data regutools StartedAt: 2024-06-10 03:19:27 -0400 (Mon, 10 Jun 2024) EndedAt: 2024-06-10 03:21:49 -0400 (Mon, 10 Jun 2024) EllapsedTime: 142.1 seconds RetCode: 0 Status: OK PackageFile: regutools_1.16.0.tar.gz PackageFileSize: 379.1 KiB