Package: regutools Version: 1.16.0 Command: /home/biocbuild/R/R-beta-2024-04-15_r86425/bin/R CMD build --keep-empty-dirs --no-resave-data regutools StartedAt: 2024-05-09 02:55:45 -0000 (Thu, 09 May 2024) EndedAt: 2024-05-09 02:57:43 -0000 (Thu, 09 May 2024) EllapsedTime: 118.2 seconds RetCode: 0 Status: OK PackageFile: regutools_1.16.0.tar.gz PackageFileSize: 388.7 KiB