Package: regutools Version: 1.16.0 Command: /Library/Frameworks/R.framework/Resources/bin/R CMD INSTALL regutools StartedAt: 2024-06-09 15:30:06 -0400 (Sun, 09 Jun 2024) EndedAt: 2024-06-09 15:31:16 -0400 (Sun, 09 Jun 2024) EllapsedTime: 70.0 seconds RetCode: 0 Status: OK