Package: regutools Version: 1.16.0 Command: /Library/Frameworks/R.framework/Resources/bin/R CMD build --keep-empty-dirs --no-resave-data regutools StartedAt: 2024-10-16 22:30:45 -0400 (Wed, 16 Oct 2024) EndedAt: 2024-10-16 22:34:10 -0400 (Wed, 16 Oct 2024) EllapsedTime: 204.9 seconds RetCode: 0 Status: OK PackageFile: regutools_1.16.0.tar.gz PackageFileSize: 379 KiB