Package: regutools Version: 1.16.0 Command: /Library/Frameworks/R.framework/Resources/bin/R CMD INSTALL regutools StartedAt: 2024-10-16 16:13:14 -0400 (Wed, 16 Oct 2024) EndedAt: 2024-10-16 16:15:13 -0400 (Wed, 16 Oct 2024) EllapsedTime: 118.6 seconds RetCode: 0 Status: OK