Package: regutools Version: 1.16.0 Command: chmod a+r regutools -R && F:\biocbuild\bbs-3.19-bioc\R\bin\R.exe CMD build --keep-empty-dirs --no-resave-data regutools StartedAt: 2024-06-26 21:20:26 -0400 (Wed, 26 Jun 2024) EndedAt: 2024-06-26 21:22:22 -0400 (Wed, 26 Jun 2024) EllapsedTime: 115.9 seconds RetCode: 0 Status: OK PackageFile: regutools_1.16.0.tar.gz PackageFileSize: 359.8 KiB