Package: regutools Version: 1.16.0 Command: rm -rf regutools.buildbin-libdir && mkdir regutools.buildbin-libdir && E:\biocbuild\bbs-3.19-bioc\R\bin\R.exe CMD INSTALL --build --library=regutools.buildbin-libdir regutools_1.16.0.tar.gz StartedAt: 2024-10-17 08:28:08 -0400 (Thu, 17 Oct 2024) EndedAt: 2024-10-17 08:29:12 -0400 (Thu, 17 Oct 2024) EllapsedTime: 63.6 seconds RetCode: 0 Status: OK PackageFile: regutools_1.16.0.zip PackageFileSize: 929 KiB