Package: rfaRm Version: 1.16.0 Command: rm -rf rfaRm.buildbin-libdir && mkdir rfaRm.buildbin-libdir && /Users/biocbuild/BBS/utils/build-universal.sh rfaRm_1.16.0.tar.gz /Library/Frameworks/R.framework/Resources/bin/R rfaRm.buildbin-libdir StartedAt: 2024-10-18 20:14:58 -0400 (Fri, 18 Oct 2024) EndedAt: 2024-10-18 20:15:16 -0400 (Fri, 18 Oct 2024) EllapsedTime: 18.3 seconds RetCode: 0 Status: OK PackageFile: rfaRm_1.16.0.tgz PackageFileSize: 596.5 KiB