Package: rfaRm Version: 1.16.0 Command: /Library/Frameworks/R.framework/Resources/bin/R CMD check --install=check:rfaRm.install-out.txt --library=/Library/Frameworks/R.framework/Resources/library --no-vignettes --timings rfaRm_1.16.0.tar.gz StartedAt: 2024-10-18 09:24:25 -0400 (Fri, 18 Oct 2024) EndedAt: 2024-10-18 09:26:43 -0400 (Fri, 18 Oct 2024) EllapsedTime: 138.0 seconds RetCode: 0 Status: OK CheckDir: rfaRm.Rcheck Warnings: 0