Package: rfaRm Version: 1.16.0 Command: /home/biocbuild/bbs-3.19-bioc/R/bin/R CMD INSTALL rfaRm StartedAt: 2024-10-16 16:40:29 -0400 (Wed, 16 Oct 2024) EndedAt: 2024-10-16 16:40:41 -0400 (Wed, 16 Oct 2024) EllapsedTime: 12.3 seconds RetCode: 0 Status: OK