Package: rgoslin Version: 1.8.0 Command: /Library/Frameworks/R.framework/Resources/bin/R CMD INSTALL rgoslin StartedAt: 2024-10-16 19:01:38 -0400 (Wed, 16 Oct 2024) EndedAt: 2024-10-16 19:04:39 -0400 (Wed, 16 Oct 2024) EllapsedTime: 181.7 seconds RetCode: 0 Status: OK