Package: rgoslin Version: 1.8.0 Command: /Library/Frameworks/R.framework/Resources/bin/R CMD build --keep-empty-dirs --no-resave-data rgoslin StartedAt: 2024-06-10 03:23:50 -0400 (Mon, 10 Jun 2024) EndedAt: 2024-06-10 03:28:53 -0400 (Mon, 10 Jun 2024) EllapsedTime: 302.8 seconds RetCode: 0 Status: OK PackageFile: rgoslin_1.8.0.tar.gz PackageFileSize: 1.401 MiB