Package: rgoslin Version: 1.8.0 Command: rm -rf rgoslin.buildbin-libdir && mkdir rgoslin.buildbin-libdir && /Users/biocbuild/BBS/utils/build-universal.sh rgoslin_1.8.0.tar.gz /Library/Frameworks/R.framework/Resources/bin/R rgoslin.buildbin-libdir StartedAt: 2024-06-10 00:35:16 -0400 (Mon, 10 Jun 2024) EndedAt: 2024-06-10 00:39:36 -0400 (Mon, 10 Jun 2024) EllapsedTime: 260.0 seconds RetCode: 0 Status: OK PackageFile: rgoslin_1.8.0.tgz PackageFileSize: 1.173 MiB