Package: rgoslin Version: 1.8.0 Command: /Library/Frameworks/R.framework/Resources/bin/R CMD check --install=check:rgoslin.install-out.txt --library=/Library/Frameworks/R.framework/Resources/library --no-vignettes --timings rgoslin_1.8.0.tar.gz StartedAt: 2024-06-09 22:34:19 -0400 (Sun, 09 Jun 2024) EndedAt: 2024-06-09 22:34:55 -0400 (Sun, 09 Jun 2024) EllapsedTime: 35.9 seconds RetCode: 0 Status: OK CheckDir: rgoslin.Rcheck Warnings: 0