Package: rgoslin Version: 1.8.0 Command: /Library/Frameworks/R.framework/Resources/bin/R CMD build --keep-empty-dirs --no-resave-data rgoslin StartedAt: 2024-10-16 22:33:53 -0400 (Wed, 16 Oct 2024) EndedAt: 2024-10-16 22:42:29 -0400 (Wed, 16 Oct 2024) EllapsedTime: 516.3 seconds RetCode: 0 Status: OK PackageFile: rgoslin_1.8.0.tar.gz PackageFileSize: 1.465 MiB