Package: rgoslin Version: 1.8.0 Command: /home/biocbuild/bbs-3.19-bioc/R/bin/R CMD check --install=check:rgoslin.install-out.txt --library=/home/biocbuild/bbs-3.19-bioc/R/site-library --timings rgoslin_1.8.0.tar.gz StartedAt: 2024-10-17 04:20:44 -0400 (Thu, 17 Oct 2024) EndedAt: 2024-10-17 04:21:24 -0400 (Thu, 17 Oct 2024) EllapsedTime: 40.1 seconds RetCode: 0 Status: OK CheckDir: rgoslin.Rcheck Warnings: 0