Package: rgoslin Version: 1.8.0 Command: rm -rf rgoslin.buildbin-libdir && mkdir rgoslin.buildbin-libdir && F:\biocbuild\bbs-3.19-bioc\R\bin\R.exe CMD INSTALL --build --library=rgoslin.buildbin-libdir rgoslin_1.8.0.tar.gz StartedAt: 2024-06-27 08:46:55 -0400 (Thu, 27 Jun 2024) EndedAt: 2024-06-27 08:50:24 -0400 (Thu, 27 Jun 2024) EllapsedTime: 208.8 seconds RetCode: 0 Status: OK PackageFile: rgoslin_1.8.0.zip PackageFileSize: 1.246 MiB