Package: rgoslin Version: 1.8.0 Command: F:\biocbuild\bbs-3.19-bioc\R\bin\R.exe CMD check --no-multiarch --install=check:rgoslin.install-out.txt --library=F:\biocbuild\bbs-3.19-bioc\R\library --no-vignettes --timings rgoslin_1.8.0.tar.gz StartedAt: 2024-06-27 05:21:50 -0400 (Thu, 27 Jun 2024) EndedAt: 2024-06-27 05:23:03 -0400 (Thu, 27 Jun 2024) EllapsedTime: 72.3 seconds RetCode: 0 Status: OK CheckDir: rgoslin.Rcheck Warnings: 0