Package: rgoslin Version: 1.8.0 Command: rm -rf rgoslin.buildbin-libdir && mkdir rgoslin.buildbin-libdir && E:\biocbuild\bbs-3.19-bioc\R\bin\R.exe CMD INSTALL --build --library=rgoslin.buildbin-libdir rgoslin_1.8.0.tar.gz StartedAt: 2024-10-17 08:28:56 -0400 (Thu, 17 Oct 2024) EndedAt: 2024-10-17 08:31:45 -0400 (Thu, 17 Oct 2024) EllapsedTime: 168.6 seconds RetCode: 0 Status: OK PackageFile: rgoslin_1.8.0.zip PackageFileSize: 1.246 MiB