Package: rgoslin Version: 1.8.0 Command: chmod a+r rgoslin -R && E:\biocbuild\bbs-3.19-bioc\R\bin\R.exe CMD build --keep-empty-dirs --no-resave-data rgoslin StartedAt: 2024-10-16 21:29:54 -0400 (Wed, 16 Oct 2024) EndedAt: 2024-10-16 21:33:18 -0400 (Wed, 16 Oct 2024) EllapsedTime: 204.0 seconds RetCode: 0 Status: OK PackageFile: rgoslin_1.8.0.tar.gz PackageFileSize: 466.3 KiB