Package: rhdf5 Version: 2.48.0 Command: /Library/Frameworks/R.framework/Resources/bin/R CMD check --install=check:rhdf5.install-out.txt --library=/Library/Frameworks/R.framework/Resources/library --no-vignettes --timings rhdf5_2.48.0.tar.gz StartedAt: 2024-10-18 09:30:09 -0400 (Fri, 18 Oct 2024) EndedAt: 2024-10-18 09:31:17 -0400 (Fri, 18 Oct 2024) EllapsedTime: 67.9 seconds RetCode: 0 Status: WARNINGS CheckDir: rhdf5.Rcheck Warnings: 1