Package: ribor Version: 1.16.0 Command: rm -rf ribor.buildbin-libdir && mkdir ribor.buildbin-libdir && /Users/biocbuild/BBS/utils/build-universal.sh ribor_1.16.0.tar.gz /Library/Frameworks/R.framework/Resources/bin/R ribor.buildbin-libdir StartedAt: 2024-10-18 20:20:08 -0400 (Fri, 18 Oct 2024) EndedAt: 2024-10-18 20:20:23 -0400 (Fri, 18 Oct 2024) EllapsedTime: 14.9 seconds RetCode: 0 Status: OK PackageFile: ribor_1.16.0.tgz PackageFileSize: 4.829 MiB